BEGIN:VCALENDAR
VERSION:2.0
PRODID:-//hacksw/handcal//NONSGML v1.0//EN
CALSCALE:GREGORIAN
BEGIN:VEVENT
DTEND:20251117T110000
UID:69e8f8d8aa519
DTSTAMP:20260422T123536
LOCATION:
DESCRIPTION:http://www.issuesofsubstance.ca/fr/pause-reseautage-et-consultation-des-affiches-1
URI:http://www.issuesofsubstance.ca/fr/pause-reseautage-et-consultation-des-affiches-1
SUMMARY:Pause-réseautage et consultation des affiches 1 
DTSTART:20251117T103000
END:VEVENT
END:VCALENDAR

    