BEGIN:VCALENDAR
VERSION:2.0
PRODID:-//hacksw/handcal//NONSGML v1.0//EN
CALSCALE:GREGORIAN
BEGIN:VEVENT
DTEND:20251117T123000
UID:69e8f8400be31
DTSTAMP:20260422T123304
LOCATION:salle 608 et salle 609
DESCRIPTION:http://www.issuesofsubstance.ca/fr/supporting-systems-care-youth-substance-use-and-concurrent-disorders-youth-priorities-measurement
URI:http://www.issuesofsubstance.ca/fr/supporting-systems-care-youth-substance-use-and-concurrent-disorders-youth-priorities-measurement
SUMMARY:Supporting Systems of Care for Youth Substance Use and Concurrent Disorders: Youth Priorities\, Measurement-Based Care and Clinician Supports 
DTSTART:20251117T110000
END:VEVENT
END:VCALENDAR

    