BEGIN:VCALENDAR
VERSION:2.0
PRODID:-//hacksw/handcal//NONSGML v1.0//EN
CALSCALE:GREGORIAN
BEGIN:VEVENT
DTEND:20251117T123000
UID:69e8f93ce9e8c
DTSTAMP:20260422T123716
LOCATION:salle 506 et salle 507
DESCRIPTION:http://www.issuesofsubstance.ca/fr/developing-research-partnerships-indigenous-peoples-interactive-workshop-help-you-develop-your
URI:http://www.issuesofsubstance.ca/fr/developing-research-partnerships-indigenous-peoples-interactive-workshop-help-you-develop-your
SUMMARY:Developing Research Partnerships with Indigenous Peoples: An Interactive Workshop to Help You Develop Your Project Ideas and Partnerships
DTSTART:20251117T110000
END:VEVENT
END:VCALENDAR

    