BEGIN:VCALENDAR
VERSION:2.0
PRODID:-//hacksw/handcal//NONSGML v1.0//EN
CALSCALE:GREGORIAN
BEGIN:VEVENT
DTEND:20251117T123000
UID:69e8f93722806
DTSTAMP:20260422T123711
LOCATION:salle 612 et salle 613
DESCRIPTION:http://www.issuesofsubstance.ca/fr/renforcer-la-competence-et-la-resilience-en-milieux-de-soins
URI:http://www.issuesofsubstance.ca/fr/renforcer-la-competence-et-la-resilience-en-milieux-de-soins
SUMMARY:Renforcer la compétence et la résilience en milieux de soins
DTSTART:20251117T110000
END:VEVENT
END:VCALENDAR

    