BEGIN:VCALENDAR
VERSION:2.0
PRODID:-//hacksw/handcal//NONSGML v1.0//EN
CALSCALE:GREGORIAN
BEGIN:VEVENT
DTEND:20251117T123000
UID:69e8f97daddf2
DTSTAMP:20260422T123821
LOCATION:salle 611 
DESCRIPTION:http://www.issuesofsubstance.ca/fr/expression-creative-du-savoir-experientiel
URI:http://www.issuesofsubstance.ca/fr/expression-creative-du-savoir-experientiel
SUMMARY:Expression créative du savoir expérientiel 
DTSTART:20251117T110000
END:VEVENT
END:VCALENDAR

    