BEGIN:VCALENDAR
VERSION:2.0
PRODID:-//hacksw/handcal//NONSGML v1.0//EN
CALSCALE:GREGORIAN
BEGIN:VEVENT
DTEND:20251117T133000
UID:69e8f7e840b0b
DTSTAMP:20260422T123136
LOCATION:
DESCRIPTION:http://www.issuesofsubstance.ca/fr/diner-et-consultations-des-affiches-2-13-h-13-h-30
URI:http://www.issuesofsubstance.ca/fr/diner-et-consultations-des-affiches-2-13-h-13-h-30
SUMMARY:Dîner et consultations des affiches 2 (13 h -13 h 30)
DTSTART:20251117T123000
END:VEVENT
END:VCALENDAR

    