BEGIN:VCALENDAR
VERSION:2.0
PRODID:-//hacksw/handcal//NONSGML v1.0//EN
CALSCALE:GREGORIAN
BEGIN:VEVENT
DTEND:20251117T150000
UID:69e8f86b994b2
DTSTAMP:20260422T123347
LOCATION:salle 506 et salle 507
DESCRIPTION:http://www.issuesofsubstance.ca/fr/buffalo-riders-early-intervention-program-first-nations-youth
URI:http://www.issuesofsubstance.ca/fr/buffalo-riders-early-intervention-program-first-nations-youth
SUMMARY:Buffalo Riders Early Intervention Program for First Nations Youth
DTSTART:20251117T133000
END:VEVENT
END:VCALENDAR

    