BEGIN:VCALENDAR
VERSION:2.0
PRODID:-//hacksw/handcal//NONSGML v1.0//EN
CALSCALE:GREGORIAN
BEGIN:VEVENT
DTEND:20251117T150000
UID:69e8f9ac7b012
DTSTAMP:20260422T123908
LOCATION:salle 503
DESCRIPTION:http://www.issuesofsubstance.ca/fr/comprendre-lusage-de-substances-en-contextes-nordiques-et-communautaires-et-intervenir
URI:http://www.issuesofsubstance.ca/fr/comprendre-lusage-de-substances-en-contextes-nordiques-et-communautaires-et-intervenir
SUMMARY:Comprendre l’usage de substances en contextes nordiques et communautaires et intervenir 
DTSTART:20251117T133000
END:VEVENT
END:VCALENDAR

    