BEGIN:VCALENDAR
VERSION:2.0
PRODID:-//hacksw/handcal//NONSGML v1.0//EN
CALSCALE:GREGORIAN
BEGIN:VEVENT
DTEND:20251117T153000
UID:69e8f840c8cee
DTSTAMP:20260422T123304
LOCATION:
DESCRIPTION:http://www.issuesofsubstance.ca/fr/pause-reseautage-et-presentation-des-affiches-3
URI:http://www.issuesofsubstance.ca/fr/pause-reseautage-et-presentation-des-affiches-3
SUMMARY:Pause-réseautage et présentation des affiches 3
DTSTART:20251117T150000
END:VEVENT
END:VCALENDAR

    