BEGIN:VCALENDAR
VERSION:2.0
PRODID:-//hacksw/handcal//NONSGML v1.0//EN
CALSCALE:GREGORIAN
BEGIN:VEVENT
DTEND:20251117T170000
UID:69e8f9ad885ea
DTSTAMP:20260422T123909
LOCATION:salle 611 
DESCRIPTION:http://www.issuesofsubstance.ca/fr/les-mefaits-des-opioides-en-contexte-repercussions-personnelles-systemiques-et-culturelles
URI:http://www.issuesofsubstance.ca/fr/les-mefaits-des-opioides-en-contexte-repercussions-personnelles-systemiques-et-culturelles
SUMMARY:Les méfaits des opioïdes en contexte : répercussions personnelles\, systémiques et culturelles 
DTSTART:20251117T153000
END:VEVENT
END:VCALENDAR

    