BEGIN:VCALENDAR
VERSION:2.0
PRODID:-//hacksw/handcal//NONSGML v1.0//EN
CALSCALE:GREGORIAN
BEGIN:VEVENT
DTEND:20251117T170000
UID:69e8f8e9374b6
DTSTAMP:20260422T123553
LOCATION:salle 612 et salle 613
DESCRIPTION:http://www.issuesofsubstance.ca/fr/les-jeunes-et-les-familles-lavant-plan
URI:http://www.issuesofsubstance.ca/fr/les-jeunes-et-les-familles-lavant-plan
SUMMARY:Les jeunes et les familles à l’avant-plan
DTSTART:20251117T153000
END:VEVENT
END:VCALENDAR

    