BEGIN:VCALENDAR
VERSION:2.0
PRODID:-//hacksw/handcal//NONSGML v1.0//EN
CALSCALE:GREGORIAN
BEGIN:VEVENT
DTEND:20251118T123000
UID:69e8f89691205
DTSTAMP:20260422T123430
LOCATION:salle 507
DESCRIPTION:http://www.issuesofsubstance.ca/fr/new-frontier-stigma-research-measuring-objective-stigma-brain
URI:http://www.issuesofsubstance.ca/fr/new-frontier-stigma-research-measuring-objective-stigma-brain
SUMMARY:A New Frontier in Stigma Research: Measuring Objective Stigma in the Brain
DTSTART:20251118T110000
END:VEVENT
END:VCALENDAR

    