BEGIN:VCALENDAR
VERSION:2.0
PRODID:-//hacksw/handcal//NONSGML v1.0//EN
CALSCALE:GREGORIAN
BEGIN:VEVENT
DTEND:20251118T123000
UID:69e8f8d9c3116
DTSTAMP:20260422T123537
LOCATION:salle 611
DESCRIPTION:http://www.issuesofsubstance.ca/fr/des-soins-integres-pour-les-troubles-concomitants
URI:http://www.issuesofsubstance.ca/fr/des-soins-integres-pour-les-troubles-concomitants
SUMMARY:Des soins intégrés pour les troubles concomitants
DTSTART:20251118T110000
END:VEVENT
END:VCALENDAR

    