BEGIN:VCALENDAR
VERSION:2.0
PRODID:-//hacksw/handcal//NONSGML v1.0//EN
CALSCALE:GREGORIAN
BEGIN:VEVENT
DTEND:20251118T150000
UID:69e8f93cd8a47
DTSTAMP:20260422T123716
LOCATION:salle 608 et salle 609
DESCRIPTION:http://www.issuesofsubstance.ca/fr/improving-access-and-outcomes-substance-use-health-care-ontario-digital-front-door-rapid-access
URI:http://www.issuesofsubstance.ca/fr/improving-access-and-outcomes-substance-use-health-care-ontario-digital-front-door-rapid-access
SUMMARY:Improving Access and Outcomes in Substance Use Health Care in Ontario: The Digital Front Door to Rapid Access Addictions Medicine Clinics
DTSTART:20251118T133000
END:VEVENT
END:VCALENDAR

    