BEGIN:VCALENDAR
VERSION:2.0
PRODID:-//hacksw/handcal//NONSGML v1.0//EN
CALSCALE:GREGORIAN
BEGIN:VEVENT
DTEND:20251118T150000
UID:69e8f94e5019b
DTSTAMP:20260422T123734
LOCATION:salle 502
DESCRIPTION:http://www.issuesofsubstance.ca/fr/powering-future-defining-sector-leadership-canadas-sidelined-2
URI:http://www.issuesofsubstance.ca/fr/powering-future-defining-sector-leadership-canadas-sidelined-2
SUMMARY:Powering the Future – Defining Sector Leadership for Canada’s Sidelined 2%
DTSTART:20251118T133000
END:VEVENT
END:VCALENDAR

    