BEGIN:VCALENDAR
VERSION:2.0
PRODID:-//hacksw/handcal//NONSGML v1.0//EN
CALSCALE:GREGORIAN
BEGIN:VEVENT
DTEND:20251118T150000
UID:69e8f9ac8efc6
DTSTAMP:20260422T123908
LOCATION:salle 506 et salle 507
DESCRIPTION:http://www.issuesofsubstance.ca/fr/animal-awareness-substance-use-workforce
URI:http://www.issuesofsubstance.ca/fr/animal-awareness-substance-use-workforce
SUMMARY:Animal Awareness for the Substance Use Workforce
DTSTART:20251118T133000
END:VEVENT
END:VCALENDAR

    