BEGIN:VCALENDAR
VERSION:2.0
PRODID:-//hacksw/handcal//NONSGML v1.0//EN
CALSCALE:GREGORIAN
BEGIN:VEVENT
DTEND:20251118T150000
UID:69e8f8e835ad6
DTSTAMP:20260422T123552
LOCATION:salle 603 et salle 604
DESCRIPTION:http://www.issuesofsubstance.ca/fr/discussions-de-10-minutes-vers-des-soins-ameliores-politiques-pratiques-et-cheminements-personnels
URI:http://www.issuesofsubstance.ca/fr/discussions-de-10-minutes-vers-des-soins-ameliores-politiques-pratiques-et-cheminements-personnels
SUMMARY:Discussions de 10 minutes : vers des soins améliorés : politiques\, pratiques et cheminements personnels
DTSTART:20251118T133000
END:VEVENT
END:VCALENDAR

    