BEGIN:VCALENDAR
VERSION:2.0
PRODID:-//hacksw/handcal//NONSGML v1.0//EN
CALSCALE:GREGORIAN
BEGIN:VEVENT
DTEND:20251118T150000
UID:69e8f8404c7de
DTSTAMP:20260422T123304
LOCATION:salle 612 et salle 613
DESCRIPTION:http://www.issuesofsubstance.ca/fr/services-daide-novateurs-dans-differents-contextes
URI:http://www.issuesofsubstance.ca/fr/services-daide-novateurs-dans-differents-contextes
SUMMARY:Services d’aide novateurs dans différents contextes 
DTSTART:20251118T133000
END:VEVENT
END:VCALENDAR

    