BEGIN:VCALENDAR
VERSION:2.0
PRODID:-//hacksw/handcal//NONSGML v1.0//EN
CALSCALE:GREGORIAN
BEGIN:VEVENT
DTEND:20251118T153000
UID:69e8f89826406
DTSTAMP:20260422T123432
LOCATION:
DESCRIPTION:http://www.issuesofsubstance.ca/fr/pause-reseautage-et-presentation-des-affiches-6
URI:http://www.issuesofsubstance.ca/fr/pause-reseautage-et-presentation-des-affiches-6
SUMMARY:Pause-réseautage et présentation des affiches 6
DTSTART:20251118T150000
END:VEVENT
END:VCALENDAR

    