BEGIN:VCALENDAR
VERSION:2.0
PRODID:-//hacksw/handcal//NONSGML v1.0//EN
CALSCALE:GREGORIAN
BEGIN:VEVENT
DTEND:20251118T170000
UID:69e8f7f0c3fff
DTSTAMP:20260422T123144
LOCATION:salle 608 et salle 609
DESCRIPTION:http://www.issuesofsubstance.ca/fr/promotion-alcohol-cannabis-gambling-tobacco-and-vaping-liquids-nicotine-youth-identifying-strengths
URI:http://www.issuesofsubstance.ca/fr/promotion-alcohol-cannabis-gambling-tobacco-and-vaping-liquids-nicotine-youth-identifying-strengths
SUMMARY:The Promotion of Alcohol\, Cannabis\, Gambling\, Tobacco and Vaping Liquids with Nicotine to Youth: Identifying the Strengths and Gaps in the Regulations 
DTSTART:20251118T153000
END:VEVENT
END:VCALENDAR

    