BEGIN:VCALENDAR
VERSION:2.0
PRODID:-//hacksw/handcal//NONSGML v1.0//EN
CALSCALE:GREGORIAN
BEGIN:VEVENT
DTEND:20251118T170000
UID:69e8f7e73ccb5
DTSTAMP:20260422T123135
LOCATION:salle 611 
DESCRIPTION:http://www.issuesofsubstance.ca/fr/accompagner-les-personnes-utilisatrices-de-la-recherche-aux-lecons-concretes
URI:http://www.issuesofsubstance.ca/fr/accompagner-les-personnes-utilisatrices-de-la-recherche-aux-lecons-concretes
SUMMARY:Accompagner les personnes utilisatrices : de la recherche aux leçons concrètes
DTSTART:20251118T153000
END:VEVENT
END:VCALENDAR

    