BEGIN:VCALENDAR
VERSION:2.0
PRODID:-//hacksw/handcal//NONSGML v1.0//EN
CALSCALE:GREGORIAN
BEGIN:VEVENT
DTEND:20251118T170000
UID:69e8f8e77d62c
DTSTAMP:20260422T123551
LOCATION:salle 503
DESCRIPTION:http://www.issuesofsubstance.ca/fr/repenser-le-cannabis-politiques-pratiques-et-experiences
URI:http://www.issuesofsubstance.ca/fr/repenser-le-cannabis-politiques-pratiques-et-experiences
SUMMARY:Repenser le cannabis : politiques\, pratiques et expériences
DTSTART:20251118T153000
END:VEVENT
END:VCALENDAR

    