BEGIN:VCALENDAR
VERSION:2.0
PRODID:-//hacksw/handcal//NONSGML v1.0//EN
CALSCALE:GREGORIAN
BEGIN:VEVENT
DTEND:20251118T170000
UID:69e8f9379de8e
DTSTAMP:20260422T123711
LOCATION:salle 605 
DESCRIPTION:http://www.issuesofsubstance.ca/fr/lespoir-et-le-retablissement-dans-la-pratique
URI:http://www.issuesofsubstance.ca/fr/lespoir-et-le-retablissement-dans-la-pratique
SUMMARY:L’espoir et le rétablissement dans la pratique 
DTSTART:20251118T153000
END:VEVENT
END:VCALENDAR

    