BEGIN:VCALENDAR
VERSION:2.0
PRODID:-//hacksw/handcal//NONSGML v1.0//EN
CALSCALE:GREGORIAN
BEGIN:VEVENT
DTEND:20251119T103000
UID:69e8f7efc1e99
DTSTAMP:20260422T123143
LOCATION:salle 612 et salle 613
DESCRIPTION:http://www.issuesofsubstance.ca/fr/forces-et-resilience-des-premieres-nations-en-matiere-de-guerison
URI:http://www.issuesofsubstance.ca/fr/forces-et-resilience-des-premieres-nations-en-matiere-de-guerison
SUMMARY:Forces et résilience des Premières Nations en matière de guérison
DTSTART:20251119T090000
END:VEVENT
END:VCALENDAR

    