BEGIN:VCALENDAR
VERSION:2.0
PRODID:-//hacksw/handcal//NONSGML v1.0//EN
CALSCALE:GREGORIAN
BEGIN:VEVENT
DTEND:20251119T103000
UID:69e8f94d56e55
DTSTAMP:20260422T123733
LOCATION:salle 611 
DESCRIPTION:http://www.issuesofsubstance.ca/fr/les-femmes-et-la-sante-liee-lusage-de-substances
URI:http://www.issuesofsubstance.ca/fr/les-femmes-et-la-sante-liee-lusage-de-substances
SUMMARY:Les femmes et la santé liée à l’usage de substances 
DTSTART:20251119T090000
END:VEVENT
END:VCALENDAR

    