BEGIN:VCALENDAR
VERSION:2.0
PRODID:-//hacksw/handcal//NONSGML v1.0//EN
CALSCALE:GREGORIAN
BEGIN:VEVENT
DTEND:20251119T110000
UID:69e8f94d4478e
DTSTAMP:20260422T123733
LOCATION:
DESCRIPTION:http://www.issuesofsubstance.ca/fr/pause-reseautage-et-presentation-des-affiches-7
URI:http://www.issuesofsubstance.ca/fr/pause-reseautage-et-presentation-des-affiches-7
SUMMARY:Pause-réseautage et présentation des affiches 7
DTSTART:20251119T103000
END:VEVENT
END:VCALENDAR

    