BEGIN:VCALENDAR
VERSION:2.0
PRODID:-//hacksw/handcal//NONSGML v1.0//EN
CALSCALE:GREGORIAN
BEGIN:VEVENT
DTEND:20251119T123000
UID:69e8f86a9bf3a
DTSTAMP:20260422T123346
LOCATION:salle 506 et salle 507
DESCRIPTION:http://www.issuesofsubstance.ca/fr/people-behind-numbers-understanding-costs-and-harms-substance-use-canada
URI:http://www.issuesofsubstance.ca/fr/people-behind-numbers-understanding-costs-and-harms-substance-use-canada
SUMMARY:The People Behind the Numbers: Understanding the Costs and Harms of Substance Use in Canada
DTSTART:20251119T110000
END:VEVENT
END:VCALENDAR

    