BEGIN:VCALENDAR
VERSION:2.0
PRODID:-//hacksw/handcal//NONSGML v1.0//EN
CALSCALE:GREGORIAN
BEGIN:VEVENT
DTEND:20251119T123000
UID:69e8f9dc8196c
DTSTAMP:20260422T123956
LOCATION:salle 603 et salle 604
DESCRIPTION:http://www.issuesofsubstance.ca/fr/savoir-autochtone-et-guerison-dans-la-pratique
URI:http://www.issuesofsubstance.ca/fr/savoir-autochtone-et-guerison-dans-la-pratique
SUMMARY:Savoir autochtone et guérison dans la pratique
DTSTART:20251119T110000
END:VEVENT
END:VCALENDAR

    