BEGIN:VCALENDAR
VERSION:2.0
PRODID:-//hacksw/handcal//NONSGML v1.0//EN
CALSCALE:GREGORIAN
BEGIN:VEVENT
DTEND:20251119T123000
UID:69e9144c71e1d
DTSTAMP:20260422T143244
LOCATION:salle 605 
DESCRIPTION:http://www.issuesofsubstance.ca/fr/les-jeunes-et-lecole-intervention-et-prevention-en-milieu-scolaire
URI:http://www.issuesofsubstance.ca/fr/les-jeunes-et-lecole-intervention-et-prevention-en-milieu-scolaire
SUMMARY:Les jeunes et l’école : intervention et prévention en milieu scolaire
DTSTART:20251119T110000
END:VEVENT
END:VCALENDAR

    