BEGIN:VCALENDAR
VERSION:2.0
PRODID:-//hacksw/handcal//NONSGML v1.0//EN
CALSCALE:GREGORIAN
BEGIN:VEVENT
DTEND:20251119T123000
UID:69e8f8989eba7
DTSTAMP:20260422T123432
LOCATION:salle 612 et salle 613
DESCRIPTION:http://www.issuesofsubstance.ca/fr/voix-des-familles-dans-les-services-daide-en-sante-liee-lusage-de-substances
URI:http://www.issuesofsubstance.ca/fr/voix-des-familles-dans-les-services-daide-en-sante-liee-lusage-de-substances
SUMMARY:Voix des familles dans les services d’aide en santé liée à l’usage de substances 
DTSTART:20251119T110000
END:VEVENT
END:VCALENDAR

    