BEGIN:VCALENDAR
VERSION:2.0
PRODID:-//hacksw/handcal//NONSGML v1.0//EN
CALSCALE:GREGORIAN
BEGIN:VEVENT
DTEND:20251119T123000
UID:69e8f8da51172
DTSTAMP:20260422T123538
LOCATION:salle 611
DESCRIPTION:http://www.issuesofsubstance.ca/fr/realites-vecues-lusage-de-substances-dans-diverses-cultures-communautes-et-generations
URI:http://www.issuesofsubstance.ca/fr/realites-vecues-lusage-de-substances-dans-diverses-cultures-communautes-et-generations
SUMMARY:Réalités vécues : l’usage de substances dans diverses cultures\, communautés et générations 
DTSTART:20251119T110000
END:VEVENT
END:VCALENDAR

    