BEGIN:VCALENDAR
VERSION:2.0
PRODID:-//hacksw/handcal//NONSGML v1.0//EN
CALSCALE:GREGORIAN
BEGIN:VEVENT
DTEND:20251119T123000
UID:69e8f8e76cba0
DTSTAMP:20260422T123551
LOCATION:salle 608 et salle 609
DESCRIPTION:http://www.issuesofsubstance.ca/fr/soigner-par-la-connexion-entraide-entre-pairs-et-pratique-de-la-compassion
URI:http://www.issuesofsubstance.ca/fr/soigner-par-la-connexion-entraide-entre-pairs-et-pratique-de-la-compassion
SUMMARY:Soigner par la connexion : entraide entre pairs et pratique de la compassion  
DTSTART:20251119T110000
END:VEVENT
END:VCALENDAR

    