BEGIN:VCALENDAR
VERSION:2.0
PRODID:-//hacksw/handcal//NONSGML v1.0//EN
CALSCALE:GREGORIAN
BEGIN:VEVENT
DTEND:20251119T143000
UID:69e8ffbff41a8
DTSTAMP:20260422T130503
LOCATION:salle 506
DESCRIPTION:http://www.issuesofsubstance.ca/fr/strengthening-global-substance-use-workforce-role-issup-national-chapters-and-launch-issup-canada
URI:http://www.issuesofsubstance.ca/fr/strengthening-global-substance-use-workforce-role-issup-national-chapters-and-launch-issup-canada
SUMMARY:Strengthening the Global Substance Use Workforce: The  Role of ISSUP National Chapters and the Launch of ISSUP Canada
DTSTART:20251119T133000
END:VEVENT
END:VCALENDAR

    