BEGIN:VCALENDAR
VERSION:2.0
PRODID:-//hacksw/handcal//NONSGML v1.0//EN
CALSCALE:GREGORIAN
BEGIN:VEVENT
DTEND:20251119T133000
UID:69e8f9ad0eb6e
DTSTAMP:20260422T123909
LOCATION:
DESCRIPTION:http://www.issuesofsubstance.ca/fr/diner-et-consultations-des-affiches-8-13-h-13-h-30
URI:http://www.issuesofsubstance.ca/fr/diner-et-consultations-des-affiches-8-13-h-13-h-30
SUMMARY:Dîner et consultations des affiches 8 (13 h -13 h 30)
DTSTART:20251119T123000
END:VEVENT
END:VCALENDAR

    