BEGIN:VCALENDAR
VERSION:2.0
PRODID:-//hacksw/handcal//NONSGML v1.0//EN
CALSCALE:GREGORIAN
BEGIN:VEVENT
DTEND:20251119T143000
UID:69e8f97fabed0
DTSTAMP:20260422T123823
LOCATION:salle 612 et salle 613
DESCRIPTION:http://www.issuesofsubstance.ca/fr/resilience-scale-action-awareness-implementation
URI:http://www.issuesofsubstance.ca/fr/resilience-scale-action-awareness-implementation
SUMMARY:The Resilience Scale in Action: From Awareness to Implementation
DTSTART:20251119T133000
END:VEVENT
END:VCALENDAR

    