BEGIN:VCALENDAR
VERSION:2.0
PRODID:-//hacksw/handcal//NONSGML v1.0//EN
CALSCALE:GREGORIAN
BEGIN:VEVENT
DTEND:20251119T143000
UID:69e8f849eeb89
DTSTAMP:20260422T123313
LOCATION:salle 611 
DESCRIPTION:http://www.issuesofsubstance.ca/fr/pleins-feux-sur-la-sante-liee-lusage-de-substances-chez-les-femmes
URI:http://www.issuesofsubstance.ca/fr/pleins-feux-sur-la-sante-liee-lusage-de-substances-chez-les-femmes
SUMMARY:Pleins feux sur la santé liée à l’usage de substances chez les femmes
DTSTART:20251119T133000
END:VEVENT
END:VCALENDAR

    