BEGIN:VCALENDAR
VERSION:2.0
PRODID:-//hacksw/handcal//NONSGML v1.0//EN
CALSCALE:GREGORIAN
BEGIN:VEVENT
DTEND:20251119T143000
UID:69e913cabaa60
DTSTAMP:20260422T143034
LOCATION:salle 502
DESCRIPTION:http://www.issuesofsubstance.ca/fr/consommation-dopioides-et-soins-dans-differents-contextes
URI:http://www.issuesofsubstance.ca/fr/consommation-dopioides-et-soins-dans-differents-contextes
SUMMARY:Consommation d’opioïdes et soins dans différents contextes
DTSTART:20251119T133000
END:VEVENT
END:VCALENDAR

    