BEGIN:VCALENDAR
VERSION:2.0
PRODID:-//hacksw/handcal//NONSGML v1.0//EN
CALSCALE:GREGORIAN
BEGIN:VEVENT
DTEND:20251119T143000
UID:69e8f98ecff46
DTSTAMP:20260422T123838
LOCATION:salle 608 et salle 609
DESCRIPTION:http://www.issuesofsubstance.ca/fr/la-sante-liee-lusage-de-substances-nous-concerne-tous
URI:http://www.issuesofsubstance.ca/fr/la-sante-liee-lusage-de-substances-nous-concerne-tous
SUMMARY:La santé liée à l’usage de substances nous concerne tous  
DTSTART:20251119T133000
END:VEVENT
END:VCALENDAR

    