BEGIN:VCALENDAR
VERSION:2.0
PRODID:-//hacksw/handcal//NONSGML v1.0//EN
CALSCALE:GREGORIAN
BEGIN:VEVENT
DTEND:20251119T143000
UID:69e8f94f5539b
DTSTAMP:20260422T123735
LOCATION:salle 603 et salle 604
DESCRIPTION:http://www.issuesofsubstance.ca/fr/assurer-un-suivi-des-intoxications-schemas-risques-et-mesures-de-sante-publique
URI:http://www.issuesofsubstance.ca/fr/assurer-un-suivi-des-intoxications-schemas-risques-et-mesures-de-sante-publique
SUMMARY:Assurer un suivi des intoxications : schémas\, risques et mesures de santé publique
DTSTART:20251119T133000
END:VEVENT
END:VCALENDAR

    