BEGIN:VCALENDAR
VERSION:2.0
PRODID:-//hacksw/handcal//NONSGML v1.0//EN
CALSCALE:GREGORIAN
BEGIN:VEVENT
DTEND:20251119T143000
UID:69e914abc7760
DTSTAMP:20260422T143419
LOCATION:salle
DESCRIPTION:http://www.issuesofsubstance.ca/fr/mesures-et-messages-concernant-lusage-de-substances
URI:http://www.issuesofsubstance.ca/fr/mesures-et-messages-concernant-lusage-de-substances
SUMMARY:Mesures et messages concernant l’usage de substances
DTSTART:20251119T133000
END:VEVENT
END:VCALENDAR

    