BEGIN:VCALENDAR
VERSION:2.0
PRODID:-//hacksw/handcal//NONSGML v1.0//EN
CALSCALE:GREGORIAN
BEGIN:VEVENT
DTEND:20251119T150000
UID:69e8f8699b814
DTSTAMP:20260422T123345
LOCATION:
DESCRIPTION:http://www.issuesofsubstance.ca/fr/pause-reseautage-et-consultation-des-affiches-9
URI:http://www.issuesofsubstance.ca/fr/pause-reseautage-et-consultation-des-affiches-9
SUMMARY:Pause-réseautage et consultation des affiches 9
DTSTART:20251119T143000
END:VEVENT
END:VCALENDAR

    