BEGIN:VCALENDAR
VERSION:2.0
PRODID:-//hacksw/handcal//NONSGML v1.0//EN
CALSCALE:GREGORIAN
BEGIN:VEVENT
DTEND:20251118T110000
UID:69e8f7ef4757a
DTSTAMP:20260422T123143
LOCATION:
DESCRIPTION:http://www.issuesofsubstance.ca/fr/pause-reseautage-et-consultation-des-affiches-4
URI:http://www.issuesofsubstance.ca/fr/pause-reseautage-et-consultation-des-affiches-4
SUMMARY:Pause-réseautage et consultation des affiches 4
DTSTART:20251118T103000
END:VEVENT
END:VCALENDAR

    