BEGIN:VCALENDAR
VERSION:2.0
PRODID:-//hacksw/handcal//NONSGML v1.0//EN
CALSCALE:GREGORIAN
BEGIN:VEVENT
DTEND:20251117T150000
UID:69e8f849dd741
DTSTAMP:20260422T123313
LOCATION:salle 603 et salle 604
DESCRIPTION:http://www.issuesofsubstance.ca/fr/why-does-access-matter-transforming-system-and-care-experience-through-co-leadership-0
URI:http://www.issuesofsubstance.ca/fr/why-does-access-matter-transforming-system-and-care-experience-through-co-leadership-0
SUMMARY:Why Does Access Matter? Transforming the System and Care Experience Through Co-Leadership
DTSTART:20251117T133000
END:VEVENT
END:VCALENDAR

    