BEGIN:VCALENDAR
VERSION:2.0
PRODID:-//hacksw/handcal//NONSGML v1.0//EN
CALSCALE:GREGORIAN
BEGIN:VEVENT
DTEND:20251118T103000
UID:69e8f97f354d7
DTSTAMP:20260422T123823
LOCATION:salle de bal 2 et salle de bal 3 
DESCRIPTION:http://www.issuesofsubstance.ca/fr/conversation-avec-des-dirigeants-federaux-repondre-la-sante-liee-lusage-de-substances-au-canada
URI:http://www.issuesofsubstance.ca/fr/conversation-avec-des-dirigeants-federaux-repondre-la-sante-liee-lusage-de-substances-au-canada
SUMMARY:Conversation avec des dirigeants fédéraux : répondre à la santé liée à l’usage de substances au Canada
DTSTART:20251118T093000
END:VEVENT
END:VCALENDAR

    