BEGIN:VCALENDAR
VERSION:2.0
PRODID:-//hacksw/handcal//NONSGML v1.0//EN
CALSCALE:GREGORIAN
BEGIN:VEVENT
DTEND:20251119T103000
UID:69e8f84b00be2
DTSTAMP:20260422T123315
LOCATION:salle 608 et salle 609
DESCRIPTION:http://www.issuesofsubstance.ca/fr/putting-communities-first-small-cities-initiative-0
URI:http://www.issuesofsubstance.ca/fr/putting-communities-first-small-cities-initiative-0
SUMMARY:Putting Communities First: Small Cities Initiative
DTSTART:20251119T090000
END:VEVENT
END:VCALENDAR

    