BEGIN:VCALENDAR
VERSION:2.0
PRODID:-//hacksw/handcal//NONSGML v1.0//EN
CALSCALE:GREGORIAN
BEGIN:VEVENT
DTEND:20251118T123000
UID:69e8f9368c937
DTSTAMP:20260422T123710
LOCATION:salle 608 et salle 609
DESCRIPTION:http://www.issuesofsubstance.ca/fr/donnees-recentes-au-carrefour-de-la-sante-mentale-et-de-la-sante-liee-lusage-de-substances
URI:http://www.issuesofsubstance.ca/fr/donnees-recentes-au-carrefour-de-la-sante-mentale-et-de-la-sante-liee-lusage-de-substances
SUMMARY:Données récentes : au carrefour de la santé mentale et de la santé liée à l’usage de substances
DTSTART:20251118T110000
END:VEVENT
END:VCALENDAR

    