BEGIN:VCALENDAR
VERSION:2.0
PRODID:-//hacksw/handcal//NONSGML v1.0//EN
CALSCALE:GREGORIAN
BEGIN:VEVENT
DTEND:20251118T150000
UID:69e8f7e74ce43
DTSTAMP:20260422T123135
LOCATION:salle 503 
DESCRIPTION:http://www.issuesofsubstance.ca/fr/donnees-probantes-mesurer-lusage-de-substances-et-intervenir-dans-un-ecosysteme-changeant
URI:http://www.issuesofsubstance.ca/fr/donnees-probantes-mesurer-lusage-de-substances-et-intervenir-dans-un-ecosysteme-changeant
SUMMARY:Données probantes : mesurer l’usage de substances et intervenir dans un écosystème changeant  
DTSTART:20251118T133000
END:VEVENT
END:VCALENDAR

    