BEGIN:VCALENDAR
VERSION:2.0
PRODID:-//hacksw/handcal//NONSGML v1.0//EN
CALSCALE:GREGORIAN
BEGIN:VEVENT
DTEND:20251119T123000
UID:69e8f8e8b1b37
DTSTAMP:20260422T123552
LOCATION:salle 502
DESCRIPTION:http://www.issuesofsubstance.ca/fr/advancing-metis-mental-wellness-through-virtual-community-based-substance-use-supports
URI:http://www.issuesofsubstance.ca/fr/advancing-metis-mental-wellness-through-virtual-community-based-substance-use-supports
SUMMARY:Advancing Métis Mental Wellness Through Virtual\, Community-Based Substance Use Supports 
DTSTART:20251119T110000
END:VEVENT
END:VCALENDAR

    