BEGIN:VCALENDAR
VERSION:2.0
PRODID:-//hacksw/handcal//NONSGML v1.0//EN
CALSCALE:GREGORIAN
BEGIN:VEVENT
DTEND:20251118T150000
UID:69e9057a968f9
DTSTAMP:20260422T132930
LOCATION:salle 602
DESCRIPTION:http://www.issuesofsubstance.ca/fr/humanizing-care-value-storytelling-mental-health-and-addictions
URI:http://www.issuesofsubstance.ca/fr/humanizing-care-value-storytelling-mental-health-and-addictions
SUMMARY:Humanizing Care\, The Value of Storytelling in Mental Health and Addictions 
DTSTART:20251118T133000
END:VEVENT
END:VCALENDAR

    