BEGIN:VCALENDAR
VERSION:2.0
PRODID:-//hacksw/handcal//NONSGML v1.0//EN
CALSCALE:GREGORIAN
BEGIN:VEVENT
DTEND:20251118T170000
UID:69e8f7ef46c65
DTSTAMP:20260422T123143
LOCATION:salle 602
DESCRIPTION:http://www.issuesofsubstance.ca/fr/video-screening-we-were-here-project
URI:http://www.issuesofsubstance.ca/fr/video-screening-we-were-here-project
SUMMARY:(Video Screening): We Were Here Project 
DTSTART:20251118T153000
END:VEVENT
END:VCALENDAR

    